Workbook

Sheet Listagem de Serviços
A1: ANEXO V – PLANILHA DE SERVIÇOS E PREÇOS UNITÁRIOS
A2: Processo nº AGSUS.024557/2026-83. Serviços e unidades do Quadro VI; regras de medição, peso taxado e cubagem no item 8 do TR.
A3: Proponente / CNPJ
A4: Data e validade da proposta
A5: Armazenagem – altura máxima de carga por posição-palete em metros (m), base 1,00 m × 1,20 m
A6: Armazenagem – peso máximo por posição-palete (kg)
A7: Destinos com rota atendida (mínimo de 70% – item 9.5 do TR) | D7: =(COUNTIF('Tipos de Entrega'!$C$4:$C$594,"ROTA REGULAR")+COUNTIF('Tipos de Entrega'!$C$4:$C$594,"ROTA ESPECIAL"))&" de "&COUNTA('Tipos de Entrega'!$A$4:$A$594)&" destinos ("&ROUND(100*(COUNTIF('Tipos de Entrega'!$C$4:$C$594,"ROTA REGULAR")+COUNTIF('Tipos de Entrega'!$C$4:$C$594,"ROTA ESPECIAL"))/COUNTA('Tipos de Entrega'!$A$4:$A$594),1)&"%)"&IF((COUNTIF('Tipos de Entrega'!$C$4:$C$594,"ROTA REGULAR")+COUNTIF('Tipos de Entrega'!$C$4:$C$594,"ROTA ESPECIAL"))/COUNTA('Tipos de Entrega'!$A$4:$A$594)>=0.7," – atende ao mínimo"," – abaixo do mínimo de 70%") -> 0 de 591 destinos (0%) – abaixo do mínimo de 70%
A8: Quantidade de destinos com rotas Não Atendidas | D8: =COUNTIF('Tipos de Entrega'!$C$4:$C$594,"NÃO POSSUI ROTA") -> 0
A9: Amarelo: preenchimento pela proponente
A10: Item | B10: Código | C10: Serviço | D10: Unidade de medida | E10: Origem → destino | F10: Quantidade estimada (por ciclo de 6 meses) | G10: Preço unitário (R$) | H10: Preço estimado (por ciclo de 6 meses) | I10: Preço total estimado (24 meses)
A11: 1 | B11: 01.01 | C11: Armazenagem | D11: posição-palete × dia | E11: Centros de distribuição | F11: =ROUNDUP(1017960/(1*1.2*$D$5*1000),0) -> #DIV/0! | H11: =F11*G11*180 -> #DIV/0! | I11: =H11*4 -> #DIV/0!
A12: 2 | B12: 02.01 | C12: Movimentação de entrada (recebimento e endereçamento) | D12: unidade de material recebida | E12: — | F12: 524250 | H12: =F12*G12 -> 0 | I12: =H12*4 -> 0
A13: 3 | B13: 03.01 | C13: Separação e expedição | D13: remessa expedida | E13: — | F13: 18129 | H13: =F13*G13 -> 0 | I13: =H13*4 -> 0
A14: 4 | B14: 04.01 | C14: Montagem de kits | D14: kit montado | E14: — | F14: 18129 | H14: =F14*G14 -> 0 | I14: =H14*4 -> 0
A15: 5 | B15: 05.01 | C15: Transferência entre centros de distribuição | D15: kg de peso taxado | E15: CD 1 – Manaus/AM ↔ CD 2 – Recife/PE | F15: =SUM('Tipos de Entrega'!$I$4:$I$594)*5%/6 -> 2536.9874 | H15: =F15*G15 -> 0 | I15: =H15*4 -> 0
A16: 5 | B16: 05.02 | C16: Transferência entre centros de distribuição | D16: kg de peso taxado | E16: CD 1 – Manaus/AM ↔ CD 3 – Campo Grande/MS | F16: =SUM('Tipos de Entrega'!$I$4:$I$594)*5%/6 -> 2536.9874 | H16: =F16*G16 -> 0 | I16: =H16*4 -> 0
A17: 5 | B17: 05.03 | C17: Transferência entre centros de distribuição | D17: kg de peso taxado | E17: CD 1 – Manaus/AM ↔ CD 4 – Curitiba/PR | F17: =SUM('Tipos de Entrega'!$I$4:$I$594)*5%/6 -> 2536.9874 | H17: =F17*G17 -> 0 | I17: =H17*4 -> 0
A18: 5 | B18: 05.04 | C18: Transferência entre centros de distribuição | D18: kg de peso taxado | E18: CD 2 – Recife/PE ↔ CD 3 – Campo Grande/MS | F18: =SUM('Tipos de Entrega'!$I$4:$I$594)*5%/6 -> 2536.9874 | H18: =F18*G18 -> 0 | I18: =H18*4 -> 0
A19: 5 | B19: 05.05 | C19: Transferência entre centros de distribuição | D19: kg de peso taxado | E19: CD 2 – Recife/PE ↔ CD 4 – Curitiba/PR | F19: =SUM('Tipos de Entrega'!$I$4:$I$594)*5%/6 -> 2536.9874 | H19: =F19*G19 -> 0 | I19: =H19*4 -> 0
A20: 5 | B20: 05.06 | C20: Transferência entre centros de distribuição | D20: kg de peso taxado | E20: CD 3 – Campo Grande/MS ↔ CD 4 – Curitiba/PR | F20: =SUM('Tipos de Entrega'!$I$4:$I$594)*5%/6 -> 2536.9874 | H20: =F20*G20 -> 0 | I20: =H20*4 -> 0
A21: 6 | B21: 06.01 | C21: Distribuição e entrega – modal rodoviário | D21: kg de peso taxado | E21: CD 1 – Manaus/AM → destinos de acesso regular terrestre em AC | F21: =SUMIFS('Tipos de Entrega'!$I$4:$I$594,'Tipos de Entrega'!$A$4:$A$594,RIGHT(TRIM(E21),2),'Tipos de Entrega'!$C$4:$C$594,"ROTA REGULAR") -> 0 | H21: =F21*G21 -> 0 | I21: =H21*4 -> 0
A22: 6 | B22: 06.02 | C22: Distribuição e entrega – modal rodoviário | D22: kg de peso taxado | E22: CD 1 – Manaus/AM → destinos de acesso regular terrestre em AM | F22: =SUMIFS('Tipos de Entrega'!$I$4:$I$594,'Tipos de Entrega'!$A$4:$A$594,RIGHT(TRIM(E22),2),'Tipos de Entrega'!$C$4:$C$594,"ROTA REGULAR") -> 0 | H22: =F22*G22 -> 0 | I22: =H22*4 -> 0
A23: 6 | B23: 06.03 | C23: Distribuição e entrega – modal rodoviário | D23: kg de peso taxado | E23: CD 1 – Manaus/AM → destinos de acesso regular terrestre em AP | F23: =SUMIFS('Tipos de Entrega'!$I$4:$I$594,'Tipos de Entrega'!$A$4:$A$594,RIGHT(TRIM(E23),2),'Tipos de Entrega'!$C$4:$C$594,"ROTA REGULAR") -> 0 | H23: =F23*G23 -> 0 | I23: =H23*4 -> 0
A24: 6 | B24: 06.04 | C24: Distribuição e entrega – modal rodoviário | D24: kg de peso taxado | E24: CD 1 – Manaus/AM → destinos de acesso regular terrestre em PA | F24: =SUMIFS('Tipos de Entrega'!$I$4:$I$594,'Tipos de Entrega'!$A$4:$A$594,RIGHT(TRIM(E24),2),'Tipos de Entrega'!$C$4:$C$594,"ROTA REGULAR") -> 0 | H24: =F24*G24 -> 0 | I24: =H24*4 -> 0
A25: 6 | B25: 06.05 | C25: Distribuição e entrega – modal rodoviário | D25: kg de peso taxado | E25: CD 1 – Manaus/AM → destinos de acesso regular terrestre em RO | F25: =SUMIFS('Tipos de Entrega'!$I$4:$I$594,'Tipos de Entrega'!$A$4:$A$594,RIGHT(TRIM(E25),2),'Tipos de Entrega'!$C$4:$C$594,"ROTA REGULAR") -> 0 | H25: =F25*G25 -> 0 | I25: =H25*4 -> 0
A26: 6 | B26: 06.06 | C26: Distribuição e entrega – modal rodoviário | D26: kg de peso taxado | E26: CD 1 – Manaus/AM → destinos de acesso regular terrestre em RR | F26: =SUMIFS('Tipos de Entrega'!$I$4:$I$594,'Tipos de Entrega'!$A$4:$A$594,RIGHT(TRIM(E26),2),'Tipos de Entrega'!$C$4:$C$594,"ROTA REGULAR") -> 0 | H26: =F26*G26 -> 0 | I26: =H26*4 -> 0
A27: 6 | B27: 06.07 | C27: Distribuição e entrega – modal rodoviário | D27: kg de peso taxado | E27: CD 1 – Manaus/AM → destinos de acesso regular terrestre em TO | F27: =SUMIFS('Tipos de Entrega'!$I$4:$I$594,'Tipos de Entrega'!$A$4:$A$594,RIGHT(TRIM(E27),2),'Tipos de Entrega'!$C$4:$C$594,"ROTA REGULAR") -> 0 | H27: =F27*G27 -> 0 | I27: =H27*4 -> 0
A28: 6 | B28: 06.08 | C28: Distribuição e entrega – modal rodoviário | D28: kg de peso taxado | E28: CD 2 – Recife/PE → destinos de acesso regular terrestre em AL | F28: =SUMIFS('Tipos de Entrega'!$I$4:$I$594,'Tipos de Entrega'!$A$4:$A$594,RIGHT(TRIM(E28),2),'Tipos de Entrega'!$C$4:$C$594,"ROTA REGULAR") -> 0 | H28: =F28*G28 -> 0 | I28: =H28*4 -> 0
A29: 6 | B29: 06.09 | C29: Distribuição e entrega – modal rodoviário | D29: kg de peso taxado | E29: CD 2 – Recife/PE → destinos de acesso regular terrestre em BA | F29: =SUMIFS('Tipos de Entrega'!$I$4:$I$594,'Tipos de Entrega'!$A$4:$A$594,RIGHT(TRIM(E29),2),'Tipos de Entrega'!$C$4:$C$594,"ROTA REGULAR") -> 0 | H29: =F29*G29 -> 0 | I29: =H29*4 -> 0
A30: 6 | B30: 06.10 | C30: Distribuição e entrega – modal rodoviário | D30: kg de peso taxado | E30: CD 2 – Recife/PE → destinos de acesso regular terrestre em CE | F30: =SUMIFS('Tipos de Entrega'!$I$4:$I$594,'Tipos de Entrega'!$A$4:$A$594,RIGHT(TRIM(E30),2),'Tipos de Entrega'!$C$4:$C$594,"ROTA REGULAR") -> 0 | H30: =F30*G30 -> 0 | I30: =H30*4 -> 0
A31: 6 | B31: 06.11 | C31: Distribuição e entrega – modal rodoviário | D31: kg de peso taxado | E31: CD 2 – Recife/PE → destinos de acesso regular terrestre em MA | F31: =SUMIFS('Tipos de Entrega'!$I$4:$I$594,'Tipos de Entrega'!$A$4:$A$594,RIGHT(TRIM(E31),2),'Tipos de Entrega'!$C$4:$C$594,"ROTA REGULAR") -> 0 | H31: =F31*G31 -> 0 | I31: =H31*4 -> 0
A32: 6 | B32: 06.12 | C32: Distribuição e entrega – modal rodoviário | D32: kg de peso taxado | E32: CD 2 – Recife/PE → destinos de acesso regular terrestre em PB | F32: =SUMIFS('Tipos de Entrega'!$I$4:$I$594,'Tipos de Entrega'!$A$4:$A$594,RIGHT(TRIM(E32),2),'Tipos de Entrega'!$C$4:$C$594,"ROTA REGULAR") -> 0 | H32: =F32*G32 -> 0 | I32: =H32*4 -> 0
... A47: 6 | B47: 06.27 | C47: Distribuição e entrega – modal rodoviário | D47: kg de peso taxado | E47: CD 4 – Curitiba/PR → destinos de acesso regular terrestre em SP | F47: =SUMIFS('Tipos de Entrega'!$I$4:$I$594,'Tipos de Entrega'!$A$4:$A$594,RIGHT(TRIM(E47),2),'Tipos de Entrega'!$C$4:$C$594,"ROTA REGULAR") -> 0 | H47: =F47*G47 -> 0 | I47: =H47*4 -> 0
A48: 7 | B48: 07.01 | C48: Entrega em destino de acesso especial, sem rota terrestre regular (qualquer modal) | D48: entrega realizada por rota, por destino | E48: Destinos de acesso especial do Anexo III, um preço por destino – ver aba “Tipos de Entrega” – O total será baseado na soma dos preços dos destinos especiais alcançados pelo operador logístico. | F48: =COUNTIF('Tipos de Entrega'!$C:$C,"ROTA ESPECIAL") -> 0 | G48: =SUMIF('Tipos de Entrega'!$C:$C,"ROTA ESPECIAL",'Tipos de Entrega'!$D:$D) -> 0 | H48: =G48 -> 0 | I48: =H48*4 -> 0
A49: 8 | B49: 08.01 | C49: Logística reversa | D49: kg de peso taxado | E49: Origem e destino indicados na RTC | F49: =(SUMIFS('Tipos de Entrega'!$I$4:$I$594,'Tipos de Entrega'!$S$4:$S$594,"Terrestre")+SUMIFS('Tipos de Entrega'!$F$4:$F$594,'Tipos de Entrega'!$S$4:$S$594,"<>Terrestre")/1000)*5% -> 13339.462 | H49: =F49*G49 -> 0 | I49: =H49*4 -> 0
A50: 9 | B50: 09.01 | C50: Coleta em origem indicada pela AgSUS | D50: Coleta efetivamente realizada | E50: Endereço de coleta em rota de acesso regular | F50: - | H50: =F50 -> - | I50: -
A51: 10 | B51: 10.01 | C51: Remessa porta-a-porta – modal rodoviário | D51: quilômetro (VG = VQ × QE) | E51: Endereços de origem e destino indicados na RTC | F51: 20000 | H51: =F51*G51 -> 0 | I51: =H51*4 -> 0
A52: 11 | B52: 11.01 | C52: Remessa porta-a-porta – modais aéreo, fluvial ou combinado | D52: metro cúbico (VG = VM³ × ME) | E52: Endereços de origem e destino indicados na RTC | F52: 1000 | H52: =F52*G52 -> 0 | I52: =H52*4 -> 0
A53: VALOR GLOBAL DA PROPOSTA (24 MESES) | I53: =SUM(I11:I52) -> #DIV/0!
A54: 1. Os preços incluem todos os custos da execução, inclusive veículos, aeronaves e embarcações, vedada cobrança adicional por fretamento ou hora de voo (itens 8.1.9 e 15.4 do TR). Todas as linhas devem ser cotadas.
...

Sheet Tipos de Entrega
A1: TIPOS DE ENTREGA: REGULAR, ESPECIAL E SEM ROTA
A2: Amarelo: preenchimento pela proponente Origem no CD indicado, qualquer que seja o modal. Na coluna “TIPO DE ENTREGA” Marque “ROTA REGULAR” caso a entrega no endereço seja feita em rota padrão usual do operador logístico; Marque “ROTA ESPECIAL” se necessitar de rota customizada para realizar a entrega; Marque “NÃO POSSUI ROTA” se não houver meios para alcançar o localização de destino. A seguir, informe na coluna ”VALOR DA ROTA ESPECIAL” o valor proposto para entrega da quantidade apontada de kits para 1 ciclo de entrega de materiais. Preencher o tipo de entrega como ROTA REGULAR ou ROTA ESPECIAL somente para os destinos que se compromete a atender, caso contrário preencher “NÃO POSSUI ROTA”.
A3: UF | B3: CD DE ORIGEM | C3: TIPO DE ENTREGA | D3: PREÇO DA ENTREGA NA ROTA (R$) (PREENCHER SOMENTE PARA ROTA ESPECIAL) | E3: QUANTIDADE ESTIMADA POR CICLO (6 MESES) | F3: PESO ESTIMADO (KG) POR CICLO (6 MESES) | G3: MUNICIPIO_IBGE | H3: VOLUME ESTIMADO (L) POR CICLO (6 MESES) | I3: Peso Taxado Estimado (6 MESES) | J3: DSEI | K3: TIPO_DE_ESTABELECIMENTO | L3: SUBTIPO DE ESTABELECIMENTO | M3: NOME DO LOCAL | N3: NOME_DA_ESTRUTURA_CNES | O3: CNES | P3: GEOLOCALIZAÇÃO | Q3: LATITUDE | R3: LONGITUDE | S3: TIPO_DE_ACESSO | T3: ENDEREÇO | U3: CEP | V3: GOOGLE MAPS
A4: AC | B4: =IF(OR(A4="AC",A4="AM",A4="AP",A4="PA",A4="RO",A4="RR",A4="TO"),"Manaus/AM",IF(OR(A4="AL",A4="BA",A4="CE",A4="MA",A4="PB",A4="PE",A4="PI",A4="RN",A4="SE"),"Recife/PE",IF(OR(A4="MT",A4="MS",A4="GO",A4="DF"),"Campo Grande/MS",IF(OR(A4="SC",A4="PR",A4="RS",A4="MG",A4="ES",A4="SP",A4="RJ"),"Curitiba/PR","VERIFICAR UF")))) -> Manaus/AM | E4: =IFERROR(INDEX('ANEXO IV - Kits por Polo'!$F$2:$F$615,MATCH($M4&"|"&$K4&"|"&$A4&"|"&$J4,'ANEXO IV - Kits por Polo'!$I$2:$I$615,0)),0) -> 58 | F4: =IFERROR(INDEX('ANEXO IV - Kits por Polo'!$G$2:$G$615,MATCH($M4&"|"&$K4&"|"&$A4&"|"&$J4,'ANEXO IV - Kits por Polo'!$I$2:$I$615,0)),0) -> 528833 | G4: CRUZEIRO DO SUL | H4: =IFERROR(INDEX('ANEXO IV - Kits por Polo'!$H$2:$H$615,MATCH($M4&"|"&$K4&"|"&$A4&"|"&$J4,'ANEXO IV - Kits por Polo'!$I$2:$I$615,0)),0) -> 3010.8 | I4: =MAX(F4/1000,H4*0.3) -> 903.24 | J4: ALTO RIO JURUÁ | K4: DSEI | L4: SEDE | M4: CRUZEIRO DO SUL | N4: DISTRITO SANITARIO ESPECIAL INDIGENA ALTO RIO JURUA | O4: 7036302 | P4: -7.613041492721963, -72.6833008044458 | Q4: -7.6130415 | R4: -72.683301 | S4: Terrestre | T4: RUA DO FORMOSO, Nº 225, BAIRRO FORMOSO - CRUZEIRO DO SUL - AC | U4: 69980000 | V4: https://www.google.com/maps/place/DSEI+Alto+Rio+Juru%C3%A1/@-7.6133127,-72.6853822,17z/data=!4m14!1m7!3m6!1s0x9199cd6165e0bbf7:0x876a9f82997b719!2sDSEI+Alto+Rio+Juru%C3%A1!8m2!3d-7.6133171!4d-72.6832377!16s%2Fg%2F11n0kh24jh!3m5!1s0x9199cd6165e0bbf7:0x876a9f82997b719!8m2!3d-7.6133171!4d-72.6832377!16s%2Fg%2F11n0kh24jh?entry=ttu&g_ep=EgoyMDI2MDgwMy4wIKXMDSoASAFQAw%3D%3D
A5: AC | B5: =IF(OR(A5="AC",A5="AM",A5="AP",A5="PA",A5="RO",A5="RR",A5="TO"),"Manaus/AM",IF(OR(A5="AL",A5="BA",A5="CE",A5="MA",A5="PB",A5="PE",A5="PI",A5="RN",A5="SE"),"Recife/PE",IF(OR(A5="MT",A5="MS",A5="GO",A5="DF"),"Campo Grande/MS",IF(OR(A5="SC",A5="PR",A5="RS",A5="MG",A5="ES",A5="SP",A5="RJ"),"Curitiba/PR","VERIFICAR UF")))) -> Manaus/AM | E5: =IFERROR(INDEX('ANEXO IV - Kits por Polo'!$F$2:$F$615,MATCH($M5&"|"&$K5&"|"&$A5&"|"&$J5,'ANEXO IV - Kits por Polo'!$I$2:$I$615,0)),0) -> 37 | F5: =IFERROR(INDEX('ANEXO IV - Kits por Polo'!$G$2:$G$615,MATCH($M5&"|"&$K5&"|"&$A5&"|"&$J5,'ANEXO IV - Kits por Polo'!$I$2:$I$615,0)),0) -> 388100 | G5: CRUZEIRO DO SUL | H5: =IFERROR(INDEX('ANEXO IV - Kits por Polo'!$H$2:$H$615,MATCH($M5&"|"&$K5&"|"&$A5&"|"&$J5,'ANEXO IV - Kits por Polo'!$I$2:$I$615,0)),0) -> 2171.13 | I5: =MAX(F5/1000,H5*0.3) -> 651.339 | J5: ALTO RIO JURUÁ | K5: POLO BASE | L5: TIPO I | M5: CRUZEIRO DO SUL | N5: POLO BASE DE CRUZEIRO DO SUL | O5: 6917682 | P5: -7.772897261884028, -72.20119711623123 | Q5: -7.7728973 | R5: -72.201197 | S5: Terrestre | T5: BR 364 KM 74, TERRA INDIGENA CAMPINAS , ALDEIA KATUKINA - CRUZEIRO DO SUL - AC | U5: 69980000 | V5: https://www.google.com/maps/place/7%C2%B046'22.5%22S+72%C2%B012'04.2%22W/@-7.7729118,-72.2018094,255m/data=!3m2!1e3!4b1!4m4!3m3!8m2!3d-7.7729131!4d-72.2011657?hl=pt-BR&entry=ttu&g_ep=EgoyMDI2MDgxMC4wIKXMDSoASAFQAw%3D%3D
A6: AC | B6: =IF(OR(A6="AC",A6="AM",A6="AP",A6="PA",A6="RO",A6="RR",A6="TO"),"Manaus/AM",IF(OR(A6="AL",A6="BA",A6="CE",A6="MA",A6="PB",A6="PE",A6="PI",A6="RN",A6="SE"),"Recife/PE",IF(OR(A6="MT",A6="MS",A6="GO",A6="DF"),"Campo Grande/MS",IF(OR(A6="SC",A6="PR",A6="RS",A6="MG",A6="ES",A6="SP",A6="RJ"),"Curitiba/PR","VERIFICAR UF")))) -> Manaus/AM | E6: =IFERROR(INDEX('ANEXO IV - Kits por Polo'!$F$2:$F$615,MATCH($M6&"|"&$K6&"|"&$A6&"|"&$J6,'ANEXO IV - Kits por Polo'!$I$2:$I$615,0)),0) -> 87 | F6: =IFERROR(INDEX('ANEXO IV - Kits por Polo'!$G$2:$G$615,MATCH($M6&"|"&$K6&"|"&$A6&"|"&$J6,'ANEXO IV - Kits por Polo'!$I$2:$I$615,0)),0) -> 961652 | G6: FEIJÓ | H6: =IFERROR(INDEX('ANEXO IV - Kits por Polo'!$H$2:$H$615,MATCH($M6&"|"&$K6&"|"&$A6&"|"&$J6,'ANEXO IV - Kits por Polo'!$I$2:$I$615,0)),0) -> 5348.07 | I6: =MAX(F6/1000,H6*0.3) -> 1604.421 | J6: ALTO RIO JURUÁ | K6: POLO BASE | L6: TIPO II | M6: FEIJÓ | N6: POLO BASE DE FEIJO | O6: 6748759 | P6: -8.163549545631588, -70.35163036155558 | Q6: -8.1635495 | R6: -70.35163 | S6: Terrestre | T6: RUA 1º DE JANEIRO, Nº 71, BAIRRO SEGUNDO DISTRITO - FEIJÓ - AC | U6: 69960000 | V6: https://www.google.com/maps/place/8%C2%B009'48.8%22S+70%C2%B021'05.9%22W/@-8.1636288,-70.3518458,135m/data=!3m1!1e3!4m4!3m3!8m2!3d-8.1635572!4d-70.3516313?hl=pt-BR&entry=ttu&g_ep=EgoyMDI2MDgxNi4wIKXMDSoASAFQAw%3D%3D
A7: AC | B7: =IF(OR(A7="AC",A7="AM",A7="AP",A7="PA",A7="RO",A7="RR",A7="TO"),"Manaus/AM",IF(OR(A7="AL",A7="BA",A7="CE",A7="MA",A7="PB",A7="PE",A7="PI",A7="RN",A7="SE"),"Recife/PE",IF(OR(A7="MT",A7="MS",A7="GO",A7="DF"),"Campo Grande/MS",IF(OR(A7="SC",A7="PR",A7="RS",A7="MG",A7="ES",A7="SP",A7="RJ"),"Curitiba/PR","VERIFICAR UF")))) -> Manaus/AM | E7: =IFERROR(INDEX('ANEXO IV - Kits por Polo'!$F$2:$F$615,MATCH($M7&"|"&$K7&"|"&$A7&"|"&$J7,'ANEXO IV - Kits por Polo'!$I$2:$I$615,0)),0) -> 42 | F7: =IFERROR(INDEX('ANEXO IV - Kits por Polo'!$G$2:$G$615,MATCH($M7&"|"&$K7&"|"&$A7&"|"&$J7,'ANEXO IV - Kits por Polo'!$I$2:$I$615,0)),0) -> 458515 | G7: JORDÃO | H7: =IFERROR(INDEX('ANEXO IV - Kits por Polo'!$H$2:$H$615,MATCH($M7&"|"&$K7&"|"&$A7&"|"&$J7,'ANEXO IV - Kits por Polo'!$I$2:$I$615,0)),0) -> 2553.46 | I7: =MAX(F7/1000,H7*0.3) -> 766.038 | J7: ALTO RIO JURUÁ | K7: POLO BASE | L7: TIPO II | M7: JORDÃO | N7: POLO BASE INDIGENA JORDAO | O7: 6430201 | P7: -9.191054092164519, -71.94791629719262 | Q7: -9.1910541 | R7: -71.947916 | S7: Terrestre + Aéreo | T7: RUA HILMAR GALVÃO, Nº S/N, BAIRRO CENTRO - JORDÃO - AC | U7: 69975000 | V7: https://www.google.com/maps/place/9%C2%B011'27.8%22S+71%C2%B056'52.5%22W/@-9.1910614,-71.9479834,67m/data=!3m1!1e3!4m4!3m3!8m2!3d-9.191062!4d-71.947917!18m1!1e1?entry=ttu&g_ep=EgoyMDI2MDgxMS4wIKXMDSoASAFQAw%3D%3D
A8: AC | B8: =IF(OR(A8="AC",A8="AM",A8="AP",A8="PA",A8="RO",A8="RR",A8="TO"),"Manaus/AM",IF(OR(A8="AL",A8="BA",A8="CE",A8="MA",A8="PB",A8="PE",A8="PI",A8="RN",A8="SE"),"Recife/PE",IF(OR(A8="MT",A8="MS",A8="GO",A8="DF"),"Campo Grande/MS",IF(OR(A8="SC",A8="PR",A8="RS",A8="MG",A8="ES",A8="SP",A8="RJ"),"Curitiba/PR","VERIFICAR UF")))) -> Manaus/AM | E8: =IFERROR(INDEX('ANEXO IV - Kits por Polo'!$F$2:$F$615,MATCH($M8&"|"&$K8&"|"&$A8&"|"&$J8,'ANEXO IV - Kits por Polo'!$I$2:$I$615,0)),0) -> 48 | F8: =IFERROR(INDEX('ANEXO IV - Kits por Polo'!$G$2:$G$615,MATCH($M8&"|"&$K8&"|"&$A8&"|"&$J8,'ANEXO IV - Kits por Polo'!$I$2:$I$615,0)),0) -> 535889 | G8: MARECHAL THAUMATURGO | H8: =IFERROR(INDEX('ANEXO IV - Kits por Polo'!$H$2:$H$615,MATCH($M8&"|"&$K8&"|"&$A8&"|"&$J8,'ANEXO IV - Kits por Polo'!$I$2:$I$615,0)),0) -> 2977 | I8: =MAX(F8/1000,H8*0.3) -> 893.1 | J8: ALTO RIO JURUÁ | K8: POLO BASE | L8: TIPO II | M8: MARECHAL THAUMATURGO | N8: POLO BASE DE MARECHAL THAUMATURGO | O8: 7625855 | P8: -8.945972329745118, -72.78800023699553 | Q8: -8.9459723 | R8: -72.788 | S8: Terrestre + Fluvial ou Terrestre + Aéreo | T8: RUA RAIMUNDO BEZERRA, Nº 267, BAIRRO CENTRO, MARECHAL THAUMATURGO - AC | U8: 69983000 | V8: https://www.google.com/maps/place/8%C2%B056'45.5%22S+72%C2%B047'16.8%22W/@-8.9459862,-72.7881531,67m/data=!3m1!1e3!4m4!3m3!8m2!3d-8.9459763!4d-72.788002?hl=pt-BR&entry=ttu&g_ep=EgoyMDI2MDgxMS4wIKXMDSoASAFQAw%3D%3D
A9: AC | B9: =IF(OR(A9="AC",A9="AM",A9="AP",A9="PA",A9="RO",A9="RR",A9="TO"),"Manaus/AM",IF(OR(A9="AL",A9="BA",A9="CE",A9="MA",A9="PB",A9="PE",A9="PI",A9="RN",A9="SE"),"Recife/PE",IF(OR(A9="MT",A9="MS",A9="GO",A9="DF"),"Campo Grande/MS",IF(OR(A9="SC",A9="PR",A9="RS",A9="MG",A9="ES",A9="SP",A9="RJ"),"Curitiba/PR","VERIFICAR UF")))) -> Manaus/AM | E9: =IFERROR(INDEX('ANEXO IV - Kits por Polo'!$F$2:$F$615,MATCH($M9&"|"&$K9&"|"&$A9&"|"&$J9,'ANEXO IV - Kits por Polo'!$I$2:$I$615,0)),0) -> 46 | F9: =IFERROR(INDEX('ANEXO IV - Kits por Polo'!$G$2:$G$615,MATCH($M9&"|"&$K9&"|"&$A9&"|"&$J9,'ANEXO IV - Kits por Polo'!$I$2:$I$615,0)),0) -> 432929 | G9: MÂNCIO LIMA | H9: =IFERROR(INDEX('ANEXO IV - Kits por Polo'!$H$2:$H$615,MATCH($M9&"|"&$K9&"|"&$A9&"|"&$J9,'ANEXO IV - Kits por Polo'!$I$2:$I$615,0)),0) -> 2453.88 | I9: =MAX(F9/1000,H9*0.3) -> 736.164 | J9: ALTO RIO JURUÁ | K9: CASAI | L9: CASAI | M9: MÂNCIO LIMA | N9: CASAI MÂNCIO LIMA | O9: 7345224 | P9: -7.628801562582251, -72.88167891258509 | Q9: -7.6288016 | R9: -72.881679 | S9: Terrestre | T9: RUA 21 DE ABRIL, S/N, BAIRRO GUARANI, MÂNCIO LIMA - AC | U9: 69990000 | V9: https://www.google.com/maps/place/7%C2%B037'43.7%22S+72%C2%B052'54.0%22W/@-7.6288042,-72.8817969,68m/data=!3m1!1e3!4m4!3m3!8m2!3d-7.6288114!4d-72.8816757?hl=pt-BR&entry=ttu&g_ep=EgoyMDI2MDgxMS4wIKXMDSoASAFQAw%3D%3D
A10: AC | B10: =IF(OR(A10="AC",A10="AM",A10="AP",A10="PA",A10="RO",A10="RR",A10="TO"),"Manaus/AM",IF(OR(A10="AL",A10="BA",A10="CE",A10="MA",A10="PB",A10="PE",A10="PI",A10="RN",A10="SE"),"Recife/PE",IF(OR(A10="MT",A10="MS",A10="GO",A10="DF"),"Campo Grande/MS",IF(OR(A10="SC",A10="PR",A10="RS",A10="MG",A10="ES",A10="SP",A10="RJ"),"Curitiba/PR","VERIFICAR UF")))) -> Manaus/AM | E10: =IFERROR(INDEX('ANEXO IV - Kits por Polo'!$F$2:$F$615,MATCH($M10&"|"&$K10&"|"&$A10&"|"&$J10,'ANEXO IV - Kits por Polo'!$I$2:$I$615,0)),0) -> 13 | F10: =IFERROR(INDEX('ANEXO IV - Kits por Polo'!$G$2:$G$615,MATCH($M10&"|"&$K10&"|"&$A10&"|"&$J10,'ANEXO IV - Kits por Polo'!$I$2:$I$615,0)),0) -> 120156 | G10: MÂNCIO LIMA | H10: =IFERROR(INDEX('ANEXO IV - Kits por Polo'!$H$2:$H$615,MATCH($M10&"|"&$K10&"|"&$A10&"|"&$J10,'ANEXO IV - Kits por Polo'!$I$2:$I$615,0)),0) -> 682.63 | I10: =MAX(F10/1000,H10*0.3) -> 204.789 | J10: ALTO RIO JURUÁ | K10: POLO BASE | L10: TIPO II | M10: MÂNCIO LIMA | N10: POLO BASE DE MANCIO LIMA | O10: 6955525 | P10: -7.607036634623475, -72.90752422674916 | Q10: -7.6070366 | R10: -72.907524 | S10: Terrestre | T10: AVENIDA JAPIIM JOSE, S/N MARTINS , MANCIO LIMA - AC | U10: 69990000 | V10: https://www.google.com/maps?q=-7.607043743133545,-72.90752410888672&z=17&hl=pt-BR
A11: AC | B11: =IF(OR(A11="AC",A11="AM",A11="AP",A11="PA",A11="RO",A11="RR",A11="TO"),"Manaus/AM",IF(OR(A11="AL",A11="BA",A11="CE",A11="MA",A11="PB",A11="PE",A11="PI",A11="RN",A11="SE"),"Recife/PE",IF(OR(A11="MT",A11="MS",A11="GO",A11="DF"),"Campo Grande/MS",IF(OR(A11="SC",A11="PR",A11="RS",A11="MG",A11="ES",A11="SP",A11="RJ"),"Curitiba/PR","VERIFICAR UF")))) -> Manaus/AM | E11: =IFERROR(INDEX('ANEXO IV - Kits por Polo'!$F$2:$F$615,MATCH($M11&"|"&$K11&"|"&$A11&"|"&$J11,'ANEXO IV - Kits por Polo'!$I$2:$I$615,0)),0) -> 12 | F11: =IFERROR(INDEX('ANEXO IV - Kits por Polo'!$G$2:$G$615,MATCH($M11&"|"&$K11&"|"&$A11&"|"&$J11,'ANEXO IV - Kits por Polo'!$I$2:$I$615,0)),0) -> 119132 | G11: PORTO WALTER | H11: =IFERROR(INDEX('ANEXO IV - Kits por Polo'!$H$2:$H$615,MATCH($M11&"|"&$K11&"|"&$A11&"|"&$J11,'ANEXO IV - Kits por Polo'!$I$2:$I$615,0)),0) -> 670.8 | I11: =MAX(F11/1000,H11*0.3) -> 201.24 | J11: ALTO RIO JURUÁ | K11: POLO BASE | L11: TIPO II | M11: PORTO WALTER | N11: POLO BASE DE PORTO WALTER | O11: 6308740 | P11: -8.264217388018807, -72.74371816149976 | Q11: -8.2642174 | R11: -72.743718 | S11: Terrestre + Fluvial ou Terrestre + Aéreo | T11: RUA DJALMA CORREIA, Nº 188, BAIRRO CRISTO REI - PORTO WALTER - AC | U11: 69982000 | V11: https://www.google.com/maps/place/8%C2%B015'51.3%22S+72%C2%B044'37.4%22W/@-8.264254,-72.7436501,120m/data=!3m1!1e3!4m4!3m3!8m2!3d-8.2642384!4d-72.743721?hl=pt-BR&entry=ttu&g_ep=EgoyMDI2MDgxMC4wIKXMDSoASAFQAw%3D%3D
A12: AC | B12: =IF(OR(A12="AC",A12="AM",A12="AP",A12="PA",A12="RO",A12="RR",A12="TO"),"Manaus/AM",IF(OR(A12="AL",A12="BA",A12="CE",A12="MA",A12="PB",A12="PE",A12="PI",A12="RN",A12="SE"),"Recife/PE",IF(OR(A12="MT",A12="MS",A12="GO",A12="DF"),"Campo Grande/MS",IF(OR(A12="SC",A12="PR",A12="RS",A12="MG",A12="ES",A12="SP",A12="RJ"),"Curitiba/PR","VERIFICAR UF")))) -> Manaus/AM | E12: =IFERROR(INDEX('ANEXO IV - Kits por Polo'!$F$2:$F$615,MATCH($M12&"|"&$K12&"|"&$A12&"|"&$J12,'ANEXO IV - Kits por Polo'!$I$2:$I$615,0)),0) -> 71 | F12: =IFERROR(INDEX('ANEXO IV - Kits por Polo'!$G$2:$G$615,MATCH($M12&"|"&$K12&"|"&$A12&"|"&$J12,'ANEXO IV - Kits por Polo'!$I$2:$I$615,0)),0) -> 802809 | G12: TARAUACÁ | H12: =IFERROR(INDEX('ANEXO IV - Kits por Polo'!$H$2:$H$615,MATCH($M12&"|"&$K12&"|"&$A12&"|"&$J12,'ANEXO IV - Kits por Polo'!$I$2:$I$615,0)),0) -> 4453.67 | I12: =MAX(F12/1000,H12*0.3) -> 1336.101 | J12: ALTO RIO JURUÁ | K12: POLO BASE | L12: TIPO II | M12: TARAUACÁ | N12: UNIDADE ASSISTENCIAL A SAUDE INDIGENA DE TARAUACA POLO BASE | O12: 6612385 | P12: -8.160420081081686, -70.76662858664534 | Q12: -8.1604201 | R12: -70.766629 | S12: Terrestre | T12: R. BENJAMIN CONSTANT, Nº 1179, BAIRRO CENTRO - TARAUACÁ - AC | U12: 69970000 | V12: https://www.google.com/maps/place/8%C2%B009'37.6%22S+70%C2%B045'59.9%22W/@-8.1603935,-70.7671811,270m/data=!3m1!1e3!4m4!3m3!8m2!3d-8.1604307!4d-70.7666313?hl=pt-BR&entry=ttu&g_ep=EgoyMDI2MDgxMS4wIKXMDSoASAFQAw%3D%3D
A13: AC | B13: =IF(OR(A13="AC",A13="AM",A13="AP",A13="PA",A13="RO",A13="RR",A13="TO"),"Manaus/AM",IF(OR(A13="AL",A13="BA",A13="CE",A13="MA",A13="PB",A13="PE",A13="PI",A13="RN",A13="SE"),"Recife/PE",IF(OR(A13="MT",A13="MS",A13="GO",A13="DF"),"Campo Grande/MS",IF(OR(A13="SC",A13="PR",A13="RS",A13="MG",A13="ES",A13="SP",A13="RJ"),"Curitiba/PR","VERIFICAR UF")))) -> Manaus/AM | E13: =IFERROR(INDEX('ANEXO IV - Kits por Polo'!$F$2:$F$615,MATCH($M13&"|"&$K13&"|"&$A13&"|"&$J13,'ANEXO IV - Kits por Polo'!$I$2:$I$615,0)),0) -> 54 | F13: =IFERROR(INDEX('ANEXO IV - Kits por Polo'!$G$2:$G$615,MATCH($M13&"|"&$K13&"|"&$A13&"|"&$J13,'ANEXO IV - Kits por Polo'!$I$2:$I$615,0)),0) -> 619199 | G13: ASSIS BRASIL | H13: =IFERROR(INDEX('ANEXO IV - Kits por Polo'!$H$2:$H$615,MATCH($M13&"|"&$K13&"|"&$A13&"|"&$J13,'ANEXO IV - Kits por Polo'!$I$2:$I$615,0)),0) -> 3429.92 | I13: =MAX(F13/1000,H13*0.3) -> 1028.976 | J13: ALTO RIO PURUS | K13: POLO BASE | L13: TIPO II | M13: ASSIS BRASIL | N13: ASSIS BRASIL | O13: 6428940 | P13: -10.937544467597341, -69.56669386308094 | Q13: -10.937544 | R13: -69.566694 | S13: Terrestre | T13: AVENIDA RAIMUNDO CHAAR, 633, CENTRO ASSIS BRASIL - AC | U13: 69935000 | V13: https://www.google.com/maps?q=-10.93755,-69.56661111111111
A14: AC | B14: =IF(OR(A14="AC",A14="AM",A14="AP",A14="PA",A14="RO",A14="RR",A14="TO"),"Manaus/AM",IF(OR(A14="AL",A14="BA",A14="CE",A14="MA",A14="PB",A14="PE",A14="PI",A14="RN",A14="SE"),"Recife/PE",IF(OR(A14="MT",A14="MS",A14="GO",A14="DF"),"Campo Grande/MS",IF(OR(A14="SC",A14="PR",A14="RS",A14="MG",A14="ES",A14="SP",A14="RJ"),"Curitiba/PR","VERIFICAR UF")))) -> Manaus/AM | E14: =IFERROR(INDEX('ANEXO IV - Kits por Polo'!$F$2:$F$615,MATCH($M14&"|"&$K14&"|"&$A14&"|"&$J14,'ANEXO IV - Kits por Polo'!$I$2:$I$615,0)),0) -> 24 | F14: =IFERROR(INDEX('ANEXO IV - Kits por Polo'!$G$2:$G$615,MATCH($M14&"|"&$K14&"|"&$A14&"|"&$J14,'ANEXO IV - Kits por Polo'!$I$2:$I$615,0)),0) -> 244200 | G14: MANOEL URBANO | H14: =IFERROR(INDEX('ANEXO IV - Kits por Polo'!$H$2:$H$615,MATCH($M14&"|"&$K14&"|"&$A14&"|"&$J14,'ANEXO IV - Kits por Polo'!$I$2:$I$615,0)),0) -> 1370.98 | I14: =MAX(F14/1000,H14*0.3) -> 411.294 | J14: ALTO RIO PURUS | K14: POLO BASE | L14: TIPO II | M14: MANOEL URBANO | N14: MANOEL URBANO | O14: 2965941 | P14: -8.837518802485235, -69.2623366204817 | Q14: -8.8375188 | R14: -69.262337 | S14: Terrestre | T14: RUA MENDES ARAÚJO, 1267, BAIRRO SÃO JOSÉ, MANOEL URBANO - AC | U14: 69950000 | V14: https://www.google.com/maps?q=-8.83755,-69.26233611111111
A15: AC | B15: =IF(OR(A15="AC",A15="AM",A15="AP",A15="PA",A15="RO",A15="RR",A15="TO"),"Manaus/AM",IF(OR(A15="AL",A15="BA",A15="CE",A15="MA",A15="PB",A15="PE",A15="PI",A15="RN",A15="SE"),"Recife/PE",IF(OR(A15="MT",A15="MS",A15="GO",A15="DF"),"Campo Grande/MS",IF(OR(A15="SC",A15="PR",A15="RS",A15="MG",A15="ES",A15="SP",A15="RJ"),"Curitiba/PR","VERIFICAR UF")))) -> Manaus/AM | E15: =IFERROR(INDEX('ANEXO IV - Kits por Polo'!$F$2:$F$615,MATCH($M15&"|"&$K15&"|"&$A15&"|"&$J15,'ANEXO IV - Kits por Polo'!$I$2:$I$615,0)),0) -> 29 | F15: =IFERROR(INDEX('ANEXO IV - Kits por Polo'!$G$2:$G$615,MATCH($M15&"|"&$K15&"|"&$A15&"|"&$J15,'ANEXO IV - Kits por Polo'!$I$2:$I$615,0)),0) -> 229528 | G15: RIO BRANCO | H15: =IFERROR(INDEX('ANEXO IV - Kits por Polo'!$H$2:$H$615,MATCH($M15&"|"&$K15&"|"&$A15&"|"&$J15,'ANEXO IV - Kits por Polo'!$I$2:$I$615,0)),0) -> 1330.68 | I15: =MAX(F15/1000,H15*0.3) -> 399.204 | J15: ALTO RIO PURUS | K15: DSEI | L15: SEDE | M15: RIO BRANCO | N15: DSEI ALTO RIO PURUS | O15: 6971016 | P15: -9.96112497455326, -67.82033124996076 | Q15: -9.961125 | R15: -67.820331 | S15: Terrestre | T15: AV. ANTONIO DA ROCHA VIANA, 1584 bAIRRO: VILA IVONETE, RIO BRANCO - AC | U15: 69908000 | V15: https://maps.app.goo.gl/3k49Re2QUbKZF3Hb9
A16: AC | B16: =IF(OR(A16="AC",A16="AM",A16="AP",A16="PA",A16="RO",A16="RR",A16="TO"),"Manaus/AM",IF(OR(A16="AL",A16="BA",A16="CE",A16="MA",A16="PB",A16="PE",A16="PI",A16="RN",A16="SE"),"Recife/PE",IF(OR(A16="MT",A16="MS",A16="GO",A16="DF"),"Campo Grande/MS",IF(OR(A16="SC",A16="PR",A16="RS",A16="MG",A16="ES",A16="SP",A16="RJ"),"Curitiba/PR","VERIFICAR UF")))) -> Manaus/AM | E16: =IFERROR(INDEX('ANEXO IV - Kits por Polo'!$F$2:$F$615,MATCH($M16&"|"&$K16&"|"&$A16&"|"&$J16,'ANEXO IV - Kits por Polo'!$I$2:$I$615,0)),0) -> 25 | F16: =IFERROR(INDEX('ANEXO IV - Kits por Polo'!$G$2:$G$615,MATCH($M16&"|"&$K16&"|"&$A16&"|"&$J16,'ANEXO IV - Kits por Polo'!$I$2:$I$615,0)),0) -> 179928 | G16: RIO BRANCO | H16: =IFERROR(INDEX('ANEXO IV - Kits por Polo'!$H$2:$H$615,MATCH($M16&"|"&$K16&"|"&$A16&"|"&$J16,'ANEXO IV - Kits por Polo'!$I$2:$I$615,0)),0) -> 1059.63 | I16: =MAX(F16/1000,H16*0.3) -> 317.889 | J16: ALTO RIO PURUS | K16: CASAI | L16: CASAI | M16: RIO BRANCO | N16: CASAI RIO BRANCO | O16: 5591228 | P16: -10.004849184005662, -67.84437772928402 | Q16: -10.004849 | R16: -67.844378 | S16: Terrestre | T16: Rod. Transacreana, 284 - Floresta Sul, Rio Branco - AC | U16: 69912120 | V16: https://maps.app.goo.gl/NRyYPASAdVxQKs8x5
A17: AC | B17: =IF(OR(A17="AC",A17="AM",A17="AP",A17="PA",A17="RO",A17="RR",A17="TO"),"Manaus/AM",IF(OR(A17="AL",A17="BA",A17="CE",A17="MA",A17="PB",A17="PE",A17="PI",A17="RN",A17="SE"),"Recife/PE",IF(OR(A17="MT",A17="MS",A17="GO",A17="DF"),"Campo Grande/MS",IF(OR(A17="SC",A17="PR",A17="RS",A17="MG",A17="ES",A17="SP",A17="RJ"),"Curitiba/PR","VERIFICAR UF")))) -> Manaus/AM | E17: =IFERROR(INDEX('ANEXO IV - Kits por Polo'!$F$2:$F$615,MATCH($M17&"|"&$K17&"|"&$A17&"|"&$J17,'ANEXO IV - Kits por Polo'!$I$2:$I$615,0)),0) -> 61 | F17: =IFERROR(INDEX('ANEXO IV - Kits por Polo'!$G$2:$G$615,MATCH($M17&"|"&$K17&"|"&$A17&"|"&$J17,'ANEXO IV - Kits por Polo'!$I$2:$I$615,0)),0) -> 673852 | G17: SANTA ROSA DO PURUS | H17: =IFERROR(INDEX('ANEXO IV - Kits por Polo'!$H$2:$H$615,MATCH($M17&"|"&$K17&"|"&$A17&"|"&$J17,'ANEXO IV - Kits por Polo'!$I$2:$I$615,0)),0) -> 3747.77 | I17: =MAX(F17/1000,H17*0.3) -> 1124.331 | J17: ALTO RIO PURUS | K17: POLO BASE | L17: TIPO II | M17: SANTA ROSA | N17: SANTA ROSA | O17: 6289312 | P17: -9.44343552727133, -70.48532726743491 | Q17: -9.4434355 | R17: -70.485327 | S17: Terrestre + Fluvial | T17: RUA DO AEROPORTO, S/N, CIDADE NOVA, SANTA ROSA DO PURUS - AC | U17: 69955000 | V17: https://www.google.com/maps?q=-9.443455555555555,-70.48535
A18: AC | B18: =IF(OR(A18="AC",A18="AM",A18="AP",A18="PA",A18="RO",A18="RR",A18="TO"),"Manaus/AM",IF(OR(A18="AL",A18="BA",A18="CE",A18="MA",A18="PB",A18="PE",A18="PI",A18="RN",A18="SE"),"Recife/PE",IF(OR(A18="MT",A18="MS",A18="GO",A18="DF"),"Campo Grande/MS",IF(OR(A18="SC",A18="PR",A18="RS",A18="MG",A18="ES",A18="SP",A18="RJ"),"Curitiba/PR","VERIFICAR UF")))) -> Manaus/AM | E18: =IFERROR(INDEX('ANEXO IV - Kits por Polo'!$F$2:$F$615,MATCH($M18&"|"&$K18&"|"&$A18&"|"&$J18,'ANEXO IV - Kits por Polo'!$I$2:$I$615,0)),0) -> 18 | F18: =IFERROR(INDEX('ANEXO IV - Kits por Polo'!$G$2:$G$615,MATCH($M18&"|"&$K18&"|"&$A18&"|"&$J18,'ANEXO IV - Kits por Polo'!$I$2:$I$615,0)),0) -> 190570 | G18: SENA MADUREIRA | H18: =IFERROR(INDEX('ANEXO IV - Kits por Polo'!$H$2:$H$615,MATCH($M18&"|"&$K18&"|"&$A18&"|"&$J18,'ANEXO IV - Kits por Polo'!$I$2:$I$615,0)),0) -> 1064.96 | I18: =MAX(F18/1000,H18*0.3) -> 319.488 | J18: ALTO RIO PURUS | K18: POLO BASE | L18: TIPO II | M18: SENA MADUREIRA | N18: SENA MADUREIRA | O18: 6697151 | P18: -9.066508333333333, -68.65514722222223 | Q18: -9.0665083 | R18: -68.655147 | S18: Terrestre | T18: R. PADRE EGÍDIO, 295 - CENTRO, SENA MADUREIRA - AC | U18: 69940000 | V18: https://www.google.com/maps?q=-9.066508333333333,-68.65514722222223
A19: AL | B19: =IF(OR(A19="AC",A19="AM",A19="AP",A19="PA",A19="RO",A19="RR",A19="TO"),"Manaus/AM",IF(OR(A19="AL",A19="BA",A19="CE",A19="MA",A19="PB",A19="PE",A19="PI",A19="RN",A19="SE"),"Recife/PE",IF(OR(A19="MT",A19="MS",A19="GO",A19="DF"),"Campo Grande/MS",IF(OR(A19="SC",A19="PR",A19="RS",A19="MG",A19="ES",A19="SP",A19="RJ"),"Curitiba/PR","VERIFICAR UF")))) -> Recife/PE | E19: =IFERROR(INDEX('ANEXO IV - Kits por Polo'!$F$2:$F$615,MATCH($M19&"|"&$K19&"|"&$A19&"|"&$J19,'ANEXO IV - Kits por Polo'!$I$2:$I$615,0)),0) -> 7 | F19: =IFERROR(INDEX('ANEXO IV - Kits por Polo'!$G$2:$G$615,MATCH($M19&"|"&$K19&"|"&$A19&"|"&$J19,'ANEXO IV - Kits por Polo'!$I$2:$I$615,0)),0) -> 66526 | G19: TRAIPU | H19: =IFERROR(INDEX('ANEXO IV - Kits por Polo'!$H$2:$H$615,MATCH($M19&"|"&$K19&"|"&$A19&"|"&$J19,'ANEXO IV - Kits por Polo'!$I$2:$I$615,0)),0) -> 376.61 | I19: =MAX(F19/1000,H19*0.3) -> 112.983 | J19: ALAGOAS E SERGIPE | K19: POLO BASE | L19: TIPO I | M19: ACONÃ | N19: UBSI ACONÃ | O19: 6247571 | P19: -10.070840766734483, -36.94276424325364 | Q19: -10.070841 | R19: -36.942764 | S19: Terrestre + Fluvial | T19: ALDEIA ACONÃ, POVOADO BOM JARDIM TRAIPÚ - AL | U19: 57370000 | V19: https://www.google.com/maps/place/10%C2%B004'15.0%22S+36%C2%B056'34.0%22W/@-10.0709756,-36.9430982,159m/data=!3m1!1e3!4m4!3m3!8m2!3d-10.0708408!4d-36.9427642?entry=ttu&g_ep=EgoyMDI2MDgxNy4wIKXMDSoASAFQAw%3D%3D
A20: AL | B20: =IF(OR(A20="AC",A20="AM",A20="AP",A20="PA",A20="RO",A20="RR",A20="TO"),"Manaus/AM",IF(OR(A20="AL",A20="BA",A20="CE",A20="MA",A20="PB",A20="PE",A20="PI",A20="RN",A20="SE"),"Recife/PE",IF(OR(A20="MT",A20="MS",A20="GO",A20="DF"),"Campo Grande/MS",IF(OR(A20="SC",A20="PR",A20="RS",A20="MG",A20="ES",A20="SP",A20="RJ"),"Curitiba/PR","VERIFICAR UF")))) -> Recife/PE | E20: =IFERROR(INDEX('ANEXO IV - Kits por Polo'!$F$2:$F$615,MATCH($M20&"|"&$K20&"|"&$A20&"|"&$J20,'ANEXO IV - Kits por Polo'!$I$2:$I$615,0)),0) -> 21 | F20: =IFERROR(INDEX('ANEXO IV - Kits por Polo'!$G$2:$G$615,MATCH($M20&"|"&$K20&"|"&$A20&"|"&$J20,'ANEXO IV - Kits por Polo'!$I$2:$I$615,0)),0) -> 211449 | G20: PARICONHA | H20: =IFERROR(INDEX('ANEXO IV - Kits por Polo'!$H$2:$H$615,MATCH($M20&"|"&$K20&"|"&$A20&"|"&$J20,'ANEXO IV - Kits por Polo'!$I$2:$I$615,0)),0) -> 1188.59 | I20: =MAX(F20/1000,H20*0.3) -> 356.577 | J20: ALAGOAS E SERGIPE | K20: POLO BASE | L20: TIPO I | M20: JERIPANKÓ | N20: UBSI JERIPANKO | O20: 6235085 | P20: -9.220865072056213, -38.024613782199694 | Q20: -9.2208651 | R20: -38.024614 | S20: Terrestre | T20: OURICURI, ZONA RURAL, PARICONHA - AL | U20: 57475000 | V20: https://www.google.com/maps/place/9%C2%B013'15.2%22S+38%C2%B001'28.6%22W/@-9.2208947,-38.0271749,1073m/data=!3m2!1e3!4b1!4m4!3m3!8m2!3d-9.2209!4d-38.0246?entry=ttu&g_ep=EgoyMDI2MDcxOS4wIKXMDSoASAFQAw%3D%3D
A21: AL | B21: =IF(OR(A21="AC",A21="AM",A21="AP",A21="PA",A21="RO",A21="RR",A21="TO"),"Manaus/AM",IF(OR(A21="AL",A21="BA",A21="CE",A21="MA",A21="PB",A21="PE",A21="PI",A21="RN",A21="SE"),"Recife/PE",IF(OR(A21="MT",A21="MS",A21="GO",A21="DF"),"Campo Grande/MS",IF(OR(A21="SC",A21="PR",A21="RS",A21="MG",A21="ES",A21="SP",A21="RJ"),"Curitiba/PR","VERIFICAR UF")))) -> Recife/PE | E21: =IFERROR(INDEX('ANEXO IV - Kits por Polo'!$F$2:$F$615,MATCH($M21&"|"&$K21&"|"&$A21&"|"&$J21,'ANEXO IV - Kits por Polo'!$I$2:$I$615,0)),0) -> 9 | F21: =IFERROR(INDEX('ANEXO IV - Kits por Polo'!$G$2:$G$615,MATCH($M21&"|"&$K21&"|"&$A21&"|"&$J21,'ANEXO IV - Kits por Polo'!$I$2:$I$615,0)),0) -> 86381 | G21: ÁGUA BRANCA | H21: =IFERROR(INDEX('ANEXO IV - Kits por Polo'!$H$2:$H$615,MATCH($M21&"|"&$K21&"|"&$A21&"|"&$J21,'ANEXO IV - Kits por Polo'!$I$2:$I$615,0)),0) -> 488.41 | I21: =MAX(F21/1000,H21*0.3) -> 146.523 | J21: ALAGOAS E SERGIPE | K21: POLO BASE | L21: TIPO I | M21: KALANKÓ | N21: POLO BASE TIPO I - KALANKÓ - SEDE | O21: 6352219 | P21: -9.176583333333333, -37.89256944444445 | Q21: -9.1765833 | R21: -37.892569 | S21: Terrestre | T21: SÍTIO JANUÁRIA, ZONA RURAL ÁGUA BRANCA - AL | U21: 57490000 | V21: https://www.google.com/maps/place/Polo+Base+Kalank%C3%B3/@-9.1778867,-37.8938269,7218m/data=!3m1!1e3!4m6!3m5!1s0x708e5007502871d:0xeb3567cffe7bb8af!8m2!3d-9.1766076!4d-37.8926681!16s%2Fg%2F11z9f4_mcx?entry=ttu&g_ep=EgoyMDI2MDgxMC4wIKXMDSoASAFQAw%3D%3D
A22: AL | B22: =IF(OR(A22="AC",A22="AM",A22="AP",A22="PA",A22="RO",A22="RR",A22="TO"),"Manaus/AM",IF(OR(A22="AL",A22="BA",A22="CE",A22="MA",A22="PB",A22="PE",A22="PI",A22="RN",A22="SE"),"Recife/PE",IF(OR(A22="MT",A22="MS",A22="GO",A22="DF"),"Campo Grande/MS",IF(OR(A22="SC",A22="PR",A22="RS",A22="MG",A22="ES",A22="SP",A22="RJ"),"Curitiba/PR","VERIFICAR UF")))) -> Recife/PE | E22: =IFERROR(INDEX('ANEXO IV - Kits por Polo'!$F$2:$F$615,MATCH($M22&"|"&$K22&"|"&$A22&"|"&$J22,'ANEXO IV - Kits por Polo'!$I$2:$I$615,0)),0) -> 8 | F22: =IFERROR(INDEX('ANEXO IV - Kits por Polo'!$G$2:$G$615,MATCH($M22&"|"&$K22&"|"&$A22&"|"&$J22,'ANEXO IV - Kits por Polo'!$I$2:$I$615,0)),0) -> 73485 | G22: SÃO SEBASTIÃO | H22: =IFERROR(INDEX('ANEXO IV - Kits por Polo'!$H$2:$H$615,MATCH($M22&"|"&$K22&"|"&$A22&"|"&$J22,'ANEXO IV - Kits por Polo'!$I$2:$I$615,0)),0) -> 417.82 | I22: =MAX(F22/1000,H22*0.3) -> 125.346 | J22: ALAGOAS E SERGIPE | K22: POLO BASE | L22: TIPO I | M22: KARAPOTÓ PLAKI-Ô | N22: POLO BASE I KARAPOTO PLAKI O | O22: 2722550 | P22: -10.007478395594266, -36.6193455291675 | Q22: -10.007478 | R22: -36.619346 | S22: Terrestre | T22: ALDEIA KARAPOTO, ZONA RURAL, SÃO SEBASTIÃO - AL | U22: 57275000 | V22: https://www.google.com/maps/place/10%C2%B000'27.1%22S+36%C2%B037'09.6%22W/@-10.007522,-36.6199785,176m/data=!3m2!1e3!4b1!4m4!3m3!8m2!3d-10.0075233!4d-36.6193348?entry=ttu&g_ep=EgoyMDI2MDgxNy4wIKXMDSoASAFQAw%3D%3D
A23: AL | B23: =IF(OR(A23="AC",A23="AM",A23="AP",A23="PA",A23="RO",A23="RR",A23="TO"),"Manaus/AM",IF(OR(A23="AL",A23="BA",A23="CE",A23="MA",A23="PB",A23="PE",A23="PI",A23="RN",A23="SE"),"Recife/PE",IF(OR(A23="MT",A23="MS",A23="GO",A23="DF"),"Campo Grande/MS",IF(OR(A23="SC",A23="PR",A23="RS",A23="MG",A23="ES",A23="SP",A23="RJ"),"Curitiba/PR","VERIFICAR UF")))) -> Recife/PE | E23: =IFERROR(INDEX('ANEXO IV - Kits por Polo'!$F$2:$F$615,MATCH($M23&"|"&$K23&"|"&$A23&"|"&$J23,'ANEXO IV - Kits por Polo'!$I$2:$I$615,0)),0) -> 12 | F23: =IFERROR(INDEX('ANEXO IV - Kits por Polo'!$G$2:$G$615,MATCH($M23&"|"&$K23&"|"&$A23&"|"&$J23,'ANEXO IV - Kits por Polo'!$I$2:$I$615,0)),0) -> 113196 | G23: SÃO SEBASTIÃO | H23: =IFERROR(INDEX('ANEXO IV - Kits por Polo'!$H$2:$H$615,MATCH($M23&"|"&$K23&"|"&$A23&"|"&$J23,'ANEXO IV - Kits por Polo'!$I$2:$I$615,0)),0) -> 641.42 | I23: =MAX(F23/1000,H23*0.3) -> 192.426 | J23: ALAGOAS E SERGIPE | K23: POLO BASE | L23: TIPO I | M23: KARAPOTÓ TERRA NOVA | N23: POLO BASE I KARAPOTÓ TERRA NOVA | O23: 7482221 | P23: -9.957677253626835, -36.60042183675927 | Q23: -9.9576773 | R23: -36.600422 | S23: Terrestre | T23: TERRA NOVA, ZONA RURAL, SÃO SEBASTIÃO - AL | U23: 57275000 | V23: https://www.google.com/maps/place/9%C2%B057'28.2%22S+36%C2%B036'01.4%22W/@-9.9578333,-36.6003889,535m/data=!3m2!1e3!4b1!4m4!3m3!8m2!3d-9.9578333!4d-36.6003889?entry=ttu&g_ep=EgoyMDI2MDgwNC4wIKXMDSoASAFQAw%3D%3D
A24: AL | B24: =IF(OR(A24="AC",A24="AM",A24="AP",A24="PA",A24="RO",A24="RR",A24="TO"),"Manaus/AM",IF(OR(A24="AL",A24="BA",A24="CE",A24="MA",A24="PB",A24="PE",A24="PI",A24="RN",A24="SE"),"Recife/PE",IF(OR(A24="MT",A24="MS",A24="GO",A24="DF"),"Campo Grande/MS",IF(OR(A24="SC",A24="PR",A24="RS",A24="MG",A24="ES",A24="SP",A24="RJ"),"Curitiba/PR","VERIFICAR UF")))) -> Recife/PE | E24: =IFERROR(INDEX('ANEXO IV - Kits por Polo'!$F$2:$F$615,MATCH($M24&"|"&$K24&"|"&$A24&"|"&$J24,'ANEXO IV - Kits por Polo'!$I$2:$I$615,0)),0) -> 31 | F24: =IFERROR(INDEX('ANEXO IV - Kits por Polo'!$G$2:$G$615,MATCH($M24&"|"&$K24&"|"&$A24&"|"&$J24,'ANEXO IV - Kits por Polo'!$I$2:$I$615,0)),0) -> 298854 | G24: PORTO REAL DO COLÉGIO | H24: =IFERROR(INDEX('ANEXO IV - Kits por Polo'!$H$2:$H$615,MATCH($M24&"|"&$K24&"|"&$A24&"|"&$J24,'ANEXO IV - Kits por Polo'!$I$2:$I$615,0)),0) -> 1688.83 | I24: =MAX(F24/1000,H24*0.3) -> 506.649 | J24: ALAGOAS E SERGIPE | K24: POLO BASE | L24: TIPO I | M24: KARIRI XOKÓ | N24: UBSI KARIRI XOCÓ | O24: 9982787 | P24: -10.175373630735496, -36.83415868159578 | Q24: -10.175374 | R24: -36.834159 | S24: Terrestre | T24: KARIRI XOCO, ZONA RURAL, PORTO REAL DO COLEGIO - AL | U24: 57290000 | V24: https://www.google.com/maps/place//@-10.1752251,-36.8341332,134m/data=!3m1!1e3!4m6!1m5!3m4!2zMTDCsDEwJzMxLjMiUyAzNsKwNTAnMDMuMCJX!8m2!3d-10.1753736!4d-36.8341587?entry=ttu&g_ep=EgoyMDI2MDgxNy4wIKXMDSoASAFQAw%3D%3D
A25: AL | B25: =IF(OR(A25="AC",A25="AM",A25="AP",A25="PA",A25="RO",A25="RR",A25="TO"),"Manaus/AM",IF(OR(A25="AL",A25="BA",A25="CE",A25="MA",A25="PB",A25="PE",A25="PI",A25="RN",A25="SE"),"Recife/PE",IF(OR(A25="MT",A25="MS",A25="GO",A25="DF"),"Campo Grande/MS",IF(OR(A25="SC",A25="PR",A25="RS",A25="MG",A25="ES",A25="SP",A25="RJ"),"Curitiba/PR","VERIFICAR UF")))) -> Recife/PE | E25: =IFERROR(INDEX('ANEXO IV - Kits por Polo'!$F$2:$F$615,MATCH($M25&"|"&$K25&"|"&$A25&"|"&$J25,'ANEXO IV - Kits por Polo'!$I$2:$I$615,0)),0) -> 14 | F25: =IFERROR(INDEX('ANEXO IV - Kits por Polo'!$G$2:$G$615,MATCH($M25&"|"&$K25&"|"&$A25&"|"&$J25,'ANEXO IV - Kits por Polo'!$I$2:$I$615,0)),0) -> 133052 | G25: PARICONHA | H25: =IFERROR(INDEX('ANEXO IV - Kits por Polo'!$H$2:$H$615,MATCH($M25&"|"&$K25&"|"&$A25&"|"&$J25,'ANEXO IV - Kits por Polo'!$I$2:$I$615,0)),0) -> 753.22 | I25: =MAX(F25/1000,H25*0.3) -> 225.966 | J25: ALAGOAS E SERGIPE | K25: POLO BASE | L25: TIPO I | M25: KARUAZU | N25: UBSI KARUAZU | O25: 6383637 | P25: -9.282777486861127, -38.01451470466418 | Q25: -9.2827775 | R25: -38.014515 | S25: Terrestre | T25: POVOADO CAMPINHO, ZONA RURAL, PARICONHA - AL | U25: 57475000 | V25: https://www.google.com/maps/place/Polo+Base+Karuazu/@-9.2827694,-38.0146049,191m/data=!3m1!1e3!4m6!3m5!1s0x709210022ea3b1f:0x1d38ad3132d3fac2!8m2!3d-9.2828584!4d-38.0146428!16s%2Fg%2F11xfj5jb84?entry=ttu&g_ep=EgoyMDI2MDcyNi4wIKXMDSoASAFQAw%3D%3D
A26: AL | B26: =IF(OR(A26="AC",A26="AM",A26="AP",A26="PA",A26="RO",A26="RR",A26="TO"),"Manaus/AM",IF(OR(A26="AL",A26="BA",A26="CE",A26="MA",A26="PB",A26="PE",A26="PI",A26="RN",A26="SE"),"Recife/PE",IF(OR(A26="MT",A26="MS",A26="GO",A26="DF"),"Campo Grande/MS",IF(OR(A26="SC",A26="PR",A26="RS",A26="MG",A26="ES",A26="SP",A26="RJ"),"Curitiba/PR","VERIFICAR UF")))) -> Recife/PE | E26: =IFERROR(INDEX('ANEXO IV - Kits por Polo'!$F$2:$F$615,MATCH($M26&"|"&$K26&"|"&$A26&"|"&$J26,'ANEXO IV - Kits por Polo'!$I$2:$I$615,0)),0) -> 15 | F26: =IFERROR(INDEX('ANEXO IV - Kits por Polo'!$G$2:$G$615,MATCH($M26&"|"&$K26&"|"&$A26&"|"&$J26,'ANEXO IV - Kits por Polo'!$I$2:$I$615,0)),0) -> 140011 | G26: PARICONHA | H26: =IFERROR(INDEX('ANEXO IV - Kits por Polo'!$H$2:$H$615,MATCH($M26&"|"&$K26&"|"&$A26&"|"&$J26,'ANEXO IV - Kits por Polo'!$I$2:$I$615,0)),0) -> 794.43 | I26: =MAX(F26/1000,H26*0.3) -> 238.329 | J26: ALAGOAS E SERGIPE | K26: POLO BASE | L26: TIPO I | M26: KATOKINN | N26: UBSI MARIA SÃO PEDRO CORREIA KATOKINN | O26: 9001786 | P26: -9.598694476569774, -37.75726250155304 | Q26: -9.5986945 | R26: -37.757263 | S26: Terrestre | T26: RUA BOA VISTA, 104 - ALTO DA BOA VISTA, PARICONHA - AL | U26: 57475000 | V26: https://www.google.com/maps/place/Aldeia+Katokinn/@-9.2573201,-38.0078649,44m/data=!3m1!1e3!4m6!3m5!1s0x7091f57b1dcaeb3:0x834c30322fd78f01!8m2!3d-9.2573265!4d-38.0078092!16s%2Fg%2F11vj5fwn0y?entry=ttu&g_ep=EgoyMDI2MDgxNy4wIKXMDSoASAFQAw%3D%3D
A27: AL | B27: =IF(OR(A27="AC",A27="AM",A27="AP",A27="PA",A27="RO",A27="RR",A27="TO"),"Manaus/AM",IF(OR(A27="AL",A27="BA",A27="CE",A27="MA",A27="PB",A27="PE",A27="PI",A27="RN",A27="SE"),"Recife/PE",IF(OR(A27="MT",A27="MS",A27="GO",A27="DF"),"Campo Grande/MS",IF(OR(A27="SC",A27="PR",A27="RS",A27="MG",A27="ES",A27="SP",A27="RJ"),"Curitiba/PR","VERIFICAR UF")))) -> Recife/PE | E27: =IFERROR(INDEX('ANEXO IV - Kits por Polo'!$F$2:$F$615,MATCH($M27&"|"&$K27&"|"&$A27&"|"&$J27,'ANEXO IV - Kits por Polo'!$I$2:$I$615,0)),0) -> 11 | F27: =IFERROR(INDEX('ANEXO IV - Kits por Polo'!$G$2:$G$615,MATCH($M27&"|"&$K27&"|"&$A27&"|"&$J27,'ANEXO IV - Kits por Polo'!$I$2:$I$615,0)),0) -> 118108 | G27: INHAPI | H27: =IFERROR(INDEX('ANEXO IV - Kits por Polo'!$H$2:$H$615,MATCH($M27&"|"&$K27&"|"&$A27&"|"&$J27,'ANEXO IV - Kits por Polo'!$I$2:$I$615,0)),0) -> 658.97 | I27: =MAX(F27/1000,H27*0.3) -> 197.691 | J27: ALAGOAS E SERGIPE | K27: POLO BASE | L27: TIPO I | M27: KOIUPANKÁ | N27: POLO BASE DE SAUDE INDIGENA KOIUPANKA | O27: 4147847 | P27: -9.215710641411084, -37.75717791852957 | Q27: -9.2157106 | R27: -37.757178 | S27: Terrestre | T27: ALDEIA ROCADO, ZONA RURAL INHAPI - AL | U27: 57545000 | V27: https://www.google.com/maps/place/9%C2%B012'56.6%22S+37%C2%B045'25.8%22W/@-9.215608,-37.7574101,113m/data=!3m1!1e3!4m4!3m3!8m2!3d-9.2157106!4d-37.7571779?entry=ttu&g_ep=EgoyMDI2MDgxNy4wIKXMDSoASAFQAw%3D%3D
A28: AL | B28: =IF(OR(A28="AC",A28="AM",A28="AP",A28="PA",A28="RO",A28="RR",A28="TO"),"Manaus/AM",IF(OR(A28="AL",A28="BA",A28="CE",A28="MA",A28="PB",A28="PE",A28="PI",A28="RN",A28="SE"),"Recife/PE",IF(OR(A28="MT",A28="MS",A28="GO",A28="DF"),"Campo Grande/MS",IF(OR(A28="SC",A28="PR",A28="RS",A28="MG",A28="ES",A28="SP",A28="RJ"),"Curitiba/PR","VERIFICAR UF")))) -> Recife/PE | E28: =IFERROR(INDEX('ANEXO IV - Kits por Polo'!$F$2:$F$615,MATCH($M28&"|"&$K28&"|"&$A28&"|"&$J28,'ANEXO IV - Kits por Polo'!$I$2:$I$615,0)),0) -> 23 | F28: =IFERROR(INDEX('ANEXO IV - Kits por Polo'!$G$2:$G$615,MATCH($M28&"|"&$K28&"|"&$A28&"|"&$J28,'ANEXO IV - Kits por Polo'!$I$2:$I$615,0)),0) -> 199855 | G28: MACEIÓ | H28: =IFERROR(INDEX('ANEXO IV - Kits por Polo'!$H$2:$H$615,MATCH($M28&"|"&$K28&"|"&$A28&"|"&$J28,'ANEXO IV - Kits por Polo'!$I$2:$I$615,0)),0) -> 1140.1 | I28: =MAX(F28/1000,H28*0.3) -> 342.03 | J28: ALAGOAS E SERGIPE | K28: DSEI | L28: SEDE | M28: MACEIÓ | N28: DSEI ALAGOAS E SERGIPE | O28: 7748396 | P28: -9.60197421180051, -35.74816956467972 | Q28: -9.6019742 | R28: -35.74817 | S28: Terrestre | T28: AV. DURVAL DE GÓES MONTEIRO, 6001 - JARDIM PETRÓPOLIS, MACEIÓ - AL | U28: 57062585 | V28: https://maps.app.goo.gl/Wk1RxcpzzgcVdLNo7
A29: AL | B29: =IF(OR(A29="AC",A29="AM",A29="AP",A29="PA",A29="RO",A29="RR",A29="TO"),"Manaus/AM",IF(OR(A29="AL",A29="BA",A29="CE",A29="MA",A29="PB",A29="PE",A29="PI",A29="RN",A29="SE"),"Recife/PE",IF(OR(A29="MT",A29="MS",A29="GO",A29="DF"),"Campo Grande/MS",IF(OR(A29="SC",A29="PR",A29="RS",A29="MG",A29="ES",A29="SP",A29="RJ"),"Curitiba/PR","VERIFICAR UF")))) -> Recife/PE | E29: =IFERROR(INDEX('ANEXO IV - Kits por Polo'!$F$2:$F$615,MATCH($M29&"|"&$K29&"|"&$A29&"|"&$J29,'ANEXO IV - Kits por Polo'!$I$2:$I$615,0)),0) -> 10 | F29: =IFERROR(INDEX('ANEXO IV - Kits por Polo'!$G$2:$G$615,MATCH($M29&"|"&$K29&"|"&$A29&"|"&$J29,'ANEXO IV - Kits por Polo'!$I$2:$I$615,0)),0) -> 69597 | G29: MACEIÓ | H29: =IFERROR(INDEX('ANEXO IV - Kits por Polo'!$H$2:$H$615,MATCH($M29&"|"&$K29&"|"&$A29&"|"&$J29,'ANEXO IV - Kits por Polo'!$I$2:$I$615,0)),0) -> 412.1 | I29: =MAX(F29/1000,H29*0.3) -> 123.63 | J29: ALAGOAS E SERGIPE | K29: CASAI | L29: CASAI | M29: MACEIÓ | N29: CASA DE SAÚDE INDIGENA ALAGOA E SERGIPE | O29: - | P29: -9.626937674233407, -35.73635869699505 | Q29: -9.6269377 | R29: -35.736359 | S29: Terrestre | T29: R. Eng°. Otávio Cabral, 386 - Gruta de Lourdes | U29: 57052483 | V29: https://www.google.com/maps/place/9%C2%B037'37.6%22S+35%C2%B044'10.9%22W/@-9.6271968,-35.7364874,3a,75y,55.64h,90t/data=!3m7!1e1!3m5!1s-xQbZTh451z19tWdgzsuVw!2e0!6shttps:%2F%2Fstreetviewpixels-pa.googleapis.com%2Fv1%2Fthumbnail%3Fcb_client%3Dmaps_sv.tactile%26w%3D900%26h%3D600%26pitch%3D0%26panoid%3D-xQbZTh451z19tWdgzsuVw%26yaw%3D55.639893!7i16384!8i8192!4m4!3m3!8m2!3d-9.6271111!4d-35.7363611?entry=ttu&g_ep=EgoyMDI2MDgxNi4wIKXMDSoASAFQAw%3D%3D
A30: AL | B30: =IF(OR(A30="AC",A30="AM",A30="AP",A30="PA",A30="RO",A30="RR",A30="TO"),"Manaus/AM",IF(OR(A30="AL",A30="BA",A30="CE",A30="MA",A30="PB",A30="PE",A30="PI",A30="RN",A30="SE"),"Recife/PE",IF(OR(A30="MT",A30="MS",A30="GO",A30="DF"),"Campo Grande/MS",IF(OR(A30="SC",A30="PR",A30="RS",A30="MG",A30="ES",A30="SP",A30="RJ"),"Curitiba/PR","VERIFICAR UF")))) -> Recife/PE | E30: =IFERROR(INDEX('ANEXO IV - Kits por Polo'!$F$2:$F$615,MATCH($M30&"|"&$K30&"|"&$A30&"|"&$J30,'ANEXO IV - Kits por Polo'!$I$2:$I$615,0)),0) -> 10 | F30: =IFERROR(INDEX('ANEXO IV - Kits por Polo'!$G$2:$G$615,MATCH($M30&"|"&$K30&"|"&$A30&"|"&$J30,'ANEXO IV - Kits por Polo'!$I$2:$I$615,0)),0) -> 99277 | G30: FEIRA GRANDE | H30: =IFERROR(INDEX('ANEXO IV - Kits por Polo'!$H$2:$H$615,MATCH($M30&"|"&$K30&"|"&$A30&"|"&$J30,'ANEXO IV - Kits por Polo'!$I$2:$I$615,0)),0) -> 559 | I30: =MAX(F30/1000,H30*0.3) -> 167.7 | J30: ALAGOAS E SERGIPE | K30: POLO BASE | L30: TIPO I | M30: TINGUI BOTÓ | N30: UBSI TINGUI BOTÓ | O30: 2719312 | P30: -9.898483557445223, -36.70588962444504 | Q30: -9.8984836 | R30: -36.70589 | S30: Terrestre | T30: TINGUI BOTO, ZONA RURAL, FEIRA GRANDE - AL | U30: 57340000 | V30: https://www.google.com/maps/place/Polo+Base+de+sa%C3%BAde+Ind%C3%ADgena+Tingui-Bot%C3%B3/@-9.8983613,-36.7060509,3a,75y/data=!3m8!1e2!3m6!1sCIHM0ogKEICAgID8kYS-vAE!2e10!3e12!6shttps:%2F%2Flh3.googleusercontent.com%2Fgps-cs-s%2FAHRPTWn296YeCr5cz9xBwbMDxbj7gRgxqZ91ZNwoJhmeKsmMkQfYSA5PbEA3SVD5ljMNCLh189RUtxg4qLYPacfRog6kF7Uh1JI9nf_yyZNJhd6_WOomKnSs3ivpoBbAj9yLnCv3JAEm4g%3Dw152-h86-k-no!7i1920!8i1080!4m7!3m6!1s0x705cfe8e56ad423:0x8f43697784979191!8m2!3d-9.8984724!4d-36.7059455!10e5!16s%2Fg%2F11h760n0yr?entry=ttu&g_ep=EgoyMDI2MDgwOS4wIKXMDSoASAFQAw%3D%3D
A31: AL | B31: =IF(OR(A31="AC",A31="AM",A31="AP",A31="PA",A31="RO",A31="RR",A31="TO"),"Manaus/AM",IF(OR(A31="AL",A31="BA",A31="CE",A31="MA",A31="PB",A31="PE",A31="PI",A31="RN",A31="SE"),"Recife/PE",IF(OR(A31="MT",A31="MS",A31="GO",A31="DF"),"Campo Grande/MS",IF(OR(A31="SC",A31="PR",A31="RS",A31="MG",A31="ES",A31="SP",A31="RJ"),"Curitiba/PR","VERIFICAR UF")))) -> Recife/PE | E31: =IFERROR(INDEX('ANEXO IV - Kits por Polo'!$F$2:$F$615,MATCH($M31&"|"&$K31&"|"&$A31&"|"&$J31,'ANEXO IV - Kits por Polo'!$I$2:$I$615,0)),0) -> 26 | F31: =IFERROR(INDEX('ANEXO IV - Kits por Polo'!$G$2:$G$615,MATCH($M31&"|"&$K31&"|"&$A31&"|"&$J31,'ANEXO IV - Kits por Polo'!$I$2:$I$615,0)),0) -> 258120 | G31: JOAQUIM GOMES | H31: =IFERROR(INDEX('ANEXO IV - Kits por Polo'!$H$2:$H$615,MATCH($M31&"|"&$K31&"|"&$A31&"|"&$J31,'ANEXO IV - Kits por Polo'!$I$2:$I$615,0)),0) -> 1453.4 | I31: =MAX(F31/1000,H31*0.3) -> 436.02 | J31: ALAGOAS E SERGIPE | K31: POLO BASE | L31: TIPO I | M31: WASSU COCAL | N31: POLO BASE INDIGENA WASSU COCAL | O31: 2720868 | P31: -9.047527777777777, -35.71140277777778 | Q31: -9.0475278 | R31: -35.711403 | S31: Terrestre | T31: ALDEIA MASSU COCAL, ZONA RURAL JOAQUIM GOMES - AL | U31: 57920000 | V31: https://www.google.com/maps/place/UBSI+wass%C3%BA+cocal/@-9.0447249,-35.7290038,15z/data=!4m10!1m2!2m1!1sPOLO+BASE+INDIGENA+WASSU+COCAL!3m6!1s0x700c5e397285f85:0x97393075ff42baeb!8m2!3d-9.0474428!4d-35.711596!15sCh5QT0xPIEJBU0UgSU5ESUdFTkEgV0FTU1UgQ09DQUySARFoZWFsdGhfY29uc3VsdGFudOABAA!16s%2Fg%2F11v0f5903x?entry=ttu&g_ep=EgoyMDI2MDgxMC4wIKXMDSoASAFQAw%3D%3D
A32: AL | B32: =IF(OR(A32="AC",A32="AM",A32="AP",A32="PA",A32="RO",A32="RR",A32="TO"),"Manaus/AM",IF(OR(A32="AL",A32="BA",A32="CE",A32="MA",A32="PB",A32="PE",A32="PI",A32="RN",A32="SE"),"Recife/PE",IF(OR(A32="MT",A32="MS",A32="GO",A32="DF"),"Campo Grande/MS",IF(OR(A32="SC",A32="PR",A32="RS",A32="MG",A32="ES",A32="SP",A32="RJ"),"Curitiba/PR","VERIFICAR UF")))) -> Recife/PE | E32: =IFERROR(INDEX('ANEXO IV - Kits por Polo'!$F$2:$F$615,MATCH($M32&"|"&$K32&"|"&$A32&"|"&$J32,'ANEXO IV - Kits por Polo'!$I$2:$I$615,0)),0) -> 49 | F32: =IFERROR(INDEX('ANEXO IV - Kits por Polo'!$G$2:$G$615,MATCH($M32&"|"&$K32&"|"&$A32&"|"&$J32,'ANEXO IV - Kits por Polo'!$I$2:$I$615,0)),0) -> 519104 | G32: PALMEIRA DOS ÍNDIOS | H32: =IFERROR(INDEX('ANEXO IV - Kits por Polo'!$H$2:$H$615,MATCH($M32&"|"&$K32&"|"&$A32&"|"&$J32,'ANEXO IV - Kits por Polo'!$I$2:$I$615,0)),0) -> 2900.69 | I32: =MAX(F32/1000,H32*0.3) -> 870.207 | J32: ALAGOAS E SERGIPE | K32: POLO BASE | L32: TIPO II | M32: XUCURU KARIRI | N32: POLO BASE II XUCURU KARIRI | O32: 2010674 | P32: -9.410329878127259, -36.645018033646195 | Q32: -9.4103299 | R32: -36.645018 | S32: Terrestre | T32: AVENIDA ALAGOAS, BAIRRO JARDIM BRASIL, PALMEIRA DOS INDIOS - AL | U32: 57600280 | V32: https://www.google.com/maps/place/Polo+Base+Xucuru+Kariri/@-9.4104086,-36.6455357,88m/data=!3m1!1e3!4m14!1m7!3m6!1s0x7065f000ed1642b:0xcb5b18e438c526cc!2sPolo+Base+Xucuru+Kariri!8m2!3d-9.4103332!4d-36.6450088!16s%2Fg%2F11y_05xddr!3m5!1s0x7065f000ed1642b:0xcb5b18e438c526cc!8m2!3d-9.4103332!4d-36.6450088!16s%2Fg%2F11y_05xddr?entry=ttu&g_ep=EgoyMDI2MDgxNy4wIKXMDSoASAFQAw%3D%3D
A33: AM | B33: =IF(OR(A33="AC",A33="AM",A33="AP",A33="PA",A33="RO",A33="RR",A33="TO"),"Manaus/AM",IF(OR(A33="AL",A33="BA",A33="CE",A33="MA",A33="PB",A33="PE",A33="PI",A33="RN",A33="SE"),"Recife/PE",IF(OR(A33="MT",A33="MS",A33="GO",A33="DF"),"Campo Grande/MS",IF(OR(A33="SC",A33="PR",A33="RS",A33="MG",A33="ES",A33="SP",A33="RJ"),"Curitiba/PR","VERIFICAR UF")))) -> Manaus/AM | E33: =IFERROR(INDEX('ANEXO IV - Kits por Polo'!$F$2:$F$615,MATCH($M33&"|"&$K33&"|"&$A33&"|"&$J33,'ANEXO IV - Kits por Polo'!$I$2:$I$615,0)),0) -> 0 | F33: =IFERROR(INDEX('ANEXO IV - Kits por Polo'!$G$2:$G$615,MATCH($M33&"|"&$K33&"|"&$A33&"|"&$J33,'ANEXO IV - Kits por Polo'!$I$2:$I$615,0)),0) -> 0 | G33: SÃO GABRIEL DA CACHOEIRA | H33: =IFERROR(INDEX('ANEXO IV - Kits por Polo'!$H$2:$H$615,MATCH($M33&"|"&$K33&"|"&$A33&"|"&$J33,'ANEXO IV - Kits por Polo'!$I$2:$I$615,0)),0) -> 0 | I33: =MAX(F33/1000,H33*0.3) -> 0 | J33: ALTO RIO NEGRO | K33: POLO BASE | L33: TIPO I | M33: BALAIO | N33: BALAIO | O33: 9493263 | P33: 0.3881670611974267, -66.64978084110783 | Q33: 0.38816706 | R33: -66.649781 | S33: Terrestre | T33: BR 307, S/N, SEM BAIRRO, SÃO GABRIEL DA CACHOEIRA - AM | U33: 69750000 | V33: https://www.google.com/maps/place/0%C2%B023'17.4%22N+66%C2%B038'59.2%22W/@0.3880977,-66.649976,68m/data=!3m1!1e3!4m4!3m3!8m2!3d0.3881515!4d-66.6497782?entry=ttu&g_ep=EgoyMDI2MDkwMi4wIKXMDSoASAFQAw%3D%3D
A34: AM | B34: =IF(OR(A34="AC",A34="AM",A34="AP",A34="PA",A34="RO",A34="RR",A34="TO"),"Manaus/AM",IF(OR(A34="AL",A34="BA",A34="CE",A34="MA",A34="PB",A34="PE",A34="PI",A34="RN",A34="SE"),"Recife/PE",IF(OR(A34="MT",A34="MS",A34="GO",A34="DF"),"Campo Grande/MS",IF(OR(A34="SC",A34="PR",A34="RS",A34="MG",A34="ES",A34="SP",A34="RJ"),"Curitiba/PR","VERIFICAR UF")))) -> Manaus/AM | E34: =IFERROR(INDEX('ANEXO IV - Kits por Polo'!$F$2:$F$615,MATCH($M34&"|"&$K34&"|"&$A34&"|"&$J34,'ANEXO IV - Kits por Polo'!$I$2:$I$615,0)),0) -> 19 | F34: =IFERROR(INDEX('ANEXO IV - Kits por Polo'!$G$2:$G$615,MATCH($M34&"|"&$K34&"|"&$A34&"|"&$J34,'ANEXO IV - Kits por Polo'!$I$2:$I$615,0)),0) -> 197530 | G34: SÃO GABRIEL DA CACHOEIRA | H34: =IFERROR(INDEX('ANEXO IV - Kits por Polo'!$H$2:$H$615,MATCH($M34&"|"&$K34&"|"&$A34&"|"&$J34,'ANEXO IV - Kits por Polo'!$I$2:$I$615,0)),0) -> 1106.17 | I34: =MAX(F34/1000,H34*0.3) -> 331.851 | J34: ALTO RIO NEGRO | K34: POLO BASE | L34: TIPO I | M34: CAMARÃO | N34: CAMARÃO | O34: 7620144 | P34: 0.622904485889007, -67.44909899627523 | Q34: 0.62290449 | R34: -67.449099 | S34: Terrestre + Fluvial | T34: COMUNIDADE CAMARAO, S/N, RIO ICANA, SÃO GABRIEL DA CACHOEIRA - AM | U34: 69750000 | V34: https://www.google.com/maps/place/0%C2%B037'22.5%22N+67%C2%B026'56.8%22W/@0.6233269,-67.4526618,1537m/data=!3m1!1e3!4m4!3m3!8m2!3d0.6229045!4d-67.449099?entry=ttu&g_ep=EgoyMDI2MDgyNS4wIKXMDSoASAFQAw%3D%3D
A35: AM | B35: =IF(OR(A35="AC",A35="AM",A35="AP",A35="PA",A35="RO",A35="RR",A35="TO"),"Manaus/AM",IF(OR(A35="AL",A35="BA",A35="CE",A35="MA",A35="PB",A35="PE",A35="PI",A35="RN",A35="SE"),"Recife/PE",IF(OR(A35="MT",A35="MS",A35="GO",A35="DF"),"Campo Grande/MS",IF(OR(A35="SC",A35="PR",A35="RS",A35="MG",A35="ES",A35="SP",A35="RJ"),"Curitiba/PR","VERIFICAR UF")))) -> Manaus/AM | E35: =IFERROR(INDEX('ANEXO IV - Kits por Polo'!$F$2:$F$615,MATCH($M35&"|"&$K35&"|"&$A35&"|"&$J35,'ANEXO IV - Kits por Polo'!$I$2:$I$615,0)),0) -> 22 | F35: =IFERROR(INDEX('ANEXO IV - Kits por Polo'!$G$2:$G$615,MATCH($M35&"|"&$K35&"|"&$A35&"|"&$J35,'ANEXO IV - Kits por Polo'!$I$2:$I$615,0)),0) -> 236217 | G35: SÃO GABRIEL DA CACHOEIRA | H35: =IFERROR(INDEX('ANEXO IV - Kits por Polo'!$H$2:$H$615,MATCH($M35&"|"&$K35&"|"&$A35&"|"&$J35,'ANEXO IV - Kits por Polo'!$I$2:$I$615,0)),0) -> 1317.94 | I35: =MAX(F35/1000,H35*0.3) -> 395.382 | J35: ALTO RIO NEGRO | K35: POLO BASE | L35: TIPO I | M35: CANADÁ | N35: CANADÁ | O35: 9493360 | P35: 1.208720260723887, -69.01520289149737 | Q35: 1.2087203 | R35: -69.015203 | S35: Terrestre + Aéreo + Fluvial | T35: ALDEIA CANADA, S/N, POLO BASE CANADA, SAO GABRIEL DA CACHOEIRA - AM | U35: 69750000 | V35: https://www.google.com/maps?q=1.208707,-69.015192
A36: AM | B36: =IF(OR(A36="AC",A36="AM",A36="AP",A36="PA",A36="RO",A36="RR",A36="TO"),"Manaus/AM",IF(OR(A36="AL",A36="BA",A36="CE",A36="MA",A36="PB",A36="PE",A36="PI",A36="RN",A36="SE"),"Recife/PE",IF(OR(A36="MT",A36="MS",A36="GO",A36="DF"),"Campo Grande/MS",IF(OR(A36="SC",A36="PR",A36="RS",A36="MG",A36="ES",A36="SP",A36="RJ"),"Curitiba/PR","VERIFICAR UF")))) -> Manaus/AM | E36: =IFERROR(INDEX('ANEXO IV - Kits por Polo'!$F$2:$F$615,MATCH($M36&"|"&$K36&"|"&$A36&"|"&$J36,'ANEXO IV - Kits por Polo'!$I$2:$I$615,0)),0) -> 17 | F36: =IFERROR(INDEX('ANEXO IV - Kits por Polo'!$G$2:$G$615,MATCH($M36&"|"&$K36&"|"&$A36&"|"&$J36,'ANEXO IV - Kits por Polo'!$I$2:$I$615,0)),0) -> 165803 | G36: SÃO GABRIEL DA CACHOEIRA | H36: =IFERROR(INDEX('ANEXO IV - Kits por Polo'!$H$2:$H$615,MATCH($M36&"|"&$K36&"|"&$A36&"|"&$J36,'ANEXO IV - Kits por Polo'!$I$2:$I$615,0)),0) -> 935.61 | I36: =MAX(F36/1000,H36*0.3) -> 280.683 | J36: ALTO RIO NEGRO | K36: POLO BASE | L36: TIPO I | M36: CARURU - TIQUIÉ | N36: CARURU - TIQUIÉ | O36: 7620241 | P36: 0.2734304057421738, -69.9144496772256 | Q36: 0.27343041 | R36: -69.91445 | S36: Terrestre + Fluvial | T36: COMUNIDADE ESTACAO CARURU, S/N, SAO GABRIEL DA CACHOEIRA - AM | U36: 69750000 | V36: https://www.google.com/maps/place/0%C2%B016'24.4%22N+69%C2%B054'52.0%22W/@0.2734358,-69.9170246,1087m/data=!3m2!1e3!4b1!4m4!3m3!8m2!3d0.2734304!4d-69.9144497?entry=ttu&g_ep=EgoyMDI2MDkwNi4wIKXMDSoASAFQAw%3D%3D
A37: AM | B37: =IF(OR(A37="AC",A37="AM",A37="AP",A37="PA",A37="RO",A37="RR",A37="TO"),"Manaus/AM",IF(OR(A37="AL",A37="BA",A37="CE",A37="MA",A37="PB",A37="PE",A37="PI",A37="RN",A37="SE"),"Recife/PE",IF(OR(A37="MT",A37="MS",A37="GO",A37="DF"),"Campo Grande/MS",IF(OR(A37="SC",A37="PR",A37="RS",A37="MG",A37="ES",A37="SP",A37="RJ"),"Curitiba/PR","VERIFICAR UF")))) -> Manaus/AM | E37: =IFERROR(INDEX('ANEXO IV - Kits por Polo'!$F$2:$F$615,MATCH($M37&"|"&$K37&"|"&$A37&"|"&$J37,'ANEXO IV - Kits por Polo'!$I$2:$I$615,0)),0) -> 14 | F37: =IFERROR(INDEX('ANEXO IV - Kits por Polo'!$G$2:$G$615,MATCH($M37&"|"&$K37&"|"&$A37&"|"&$J37,'ANEXO IV - Kits por Polo'!$I$2:$I$615,0)),0) -> 127116 | G37: SÃO GABRIEL DA CACHOEIRA | H37: =IFERROR(INDEX('ANEXO IV - Kits por Polo'!$H$2:$H$615,MATCH($M37&"|"&$K37&"|"&$A37&"|"&$J37,'ANEXO IV - Kits por Polo'!$I$2:$I$615,0)),0) -> 723.84 | I37: =MAX(F37/1000,H37*0.3) -> 217.152 | J37: ALTO RIO NEGRO | K37: POLO BASE | L37: TIPO I | M37: CARURU - WAUPÉS | N37: CARURU - UAUPÉS | O37: 9493417 | P37: 1.08837498063272, -69.32728432915367 | Q37: 1.088375 | R37: -69.327284 | S37: Terrestre + Aéreo + Fluvial | T37: COMUNIDADE CARURU, S/N, SAO GABRIEL DA CACHOEIRA - AM | U37: 69750000 | V37: https://www.google.com/maps/place/1%C2%B005'18.0%22N+69%C2%B019'38.2%22W/@1.0883441,-69.3279173,272m/data=!3m2!1e3!4b1!4m4!3m3!8m2!3d1.0883428!4d-69.3272736?entry=ttu&g_ep=EgoyMDI2MDgyNS4wIKXMDSoASAFQAw%3D%3D
